BEGIN:VCALENDAR
VERSION:2.0
PRODID:fes.de
BEGIN:VTIMEZONE
TZID:Europe/Berlin
X-LIC-LOCATION:Europe/Berlin
BEGIN:DAYLIGHT
TZNAME:CEST
TZOFFSETFROM:+0100
TZOFFSETTO:+0200
DTSTART:19700329T020000
RRULE:FREQ=YEARLY;INTERVAL=1;BYMONTH=3;BYDAY=-1SU
END:DAYLIGHT
BEGIN:STANDARD
TZNAME:CET
TZOFFSETFROM:+0200
TZOFFSETTO:+0100
DTSTART:19701025T030000
RRULE:FREQ=YEARLY;INTERVAL=1;BYMONTH=10;BYDAY=-1SU
END:STANDARD
END:VTIMEZONE
BEGIN:VEVENT
UID:290025@fes.de
DTSTART;TZID=Europe/Berlin:20260427T100000
SEQUENCE:0
TRANSP:OPAQUE
DTEND;TZID=Europe/Berlin:20260622T100000
LOCATION:Europastraße 1 56470 Bad Marienberg
SUMMARY:„Demokratie stärken – Rechtsextremismus bekämpfen“
CLASS:PUBLIC
DESCRIPTION:Welche Rolle spielt Demokratie in unserem Alltag? Was bedeutet 
 Rechtsextremismus und Rechtspopulismus? Wie kann Demokratie auch im Alltag
  gestärkt werden?<br><br>Diesen Fragen nachgehend\, möchte die Ausstellu
 ng „Demokratie stärken – Rechtsextremismus bekämpfen“ Besucher_inn
 en für die Bedeutung demokratischer Werte und den aktiven Einsatz für Me
 nschenrechte sensibilisieren. Ziel ist es\, (junge) Menschen für die Them
 atik zu sensibilisieren\, sie an zentrale Begriffe und Probleme heranzufü
 hren – und sie für demokratisches Engagement zu motivieren. Gemeinsam m
 it den zwei fiktiven Jugendlichen Anna und Samir\, die in der Ausstellung 
 aus ihren verschiedenen Lebenswelten erzählen\, werden die Gefahren und H
 erausforderungen im Umgang mit Rechtsextremismus sichtbar und nahbar.<br><
 br>Die Ausstellung kann vom 28.04. bis 19.06. besucht werden.<br><br>Öffn
 ungszeiten:<br>Mo - Fr von 9.00 - 13.00 Uhr
ORGANIZER;CN=Juliana Albuera-Hanoumis:mailto:mainz@fes.de
DTSTAMP:20260423T081730Z
END:VEVENT
END:VCALENDAR