BEGIN:VCALENDAR
VERSION:2.0
PRODID:fes.de
BEGIN:VTIMEZONE
TZID:Europe/Berlin
X-LIC-LOCATION:Europe/Berlin
BEGIN:DAYLIGHT
TZNAME:CEST
TZOFFSETFROM:+0100
TZOFFSETTO:+0200
DTSTART:19700329T020000
RRULE:FREQ=YEARLY;INTERVAL=1;BYMONTH=3;BYDAY=-1SU
END:DAYLIGHT
BEGIN:STANDARD
TZNAME:CET
TZOFFSETFROM:+0200
TZOFFSETTO:+0100
DTSTART:19701025T030000
RRULE:FREQ=YEARLY;INTERVAL=1;BYMONTH=10;BYDAY=-1SU
END:STANDARD
END:VTIMEZONE
BEGIN:VEVENT
UID:289995@fes.de
DTSTART;TZID=Europe/Berlin:20260429T183000
SEQUENCE:0
TRANSP:OPAQUE
DTEND;TZID=Europe/Berlin:20260429T200000
LOCATION:Universitätsplatz 2 39104 Magdeburg
SUMMARY:Lass uns reden. Studierende im Gespräch mit der Landespolitik.
CLASS:PUBLIC
DESCRIPTION:Am 29. April laden wir zu einer hochschulpolitischen Diskussion
  mit Vertreter_innen der Landesparteien ein. Im Mittelpunkt stehen die akt
 uellen Herausforderungen für Studierende sowie Perspektiven zur Verbesser
 ung von Studienbedingungen\, Finanzierung und Chancengleichheit. Die Veran
 staltung bietet die Gelegenheit\, politische Positionen direkt zu hinterfr
 agen\, Unterschiede herauszuarbeiten und eigene Anliegen einzubringen. All
 e Studierenden sind herzlich eingeladen\, mitzudiskutieren und sich eine f
 undierte Meinung zu bilden.
ORGANIZER;CN=Franziska Schmidtke:mailto:franziska.schmidtke@fes.de
DTSTAMP:20260424T093654Z
END:VEVENT
END:VCALENDAR