BEGIN:VCALENDAR
VERSION:2.0
PRODID:fes.de
BEGIN:VTIMEZONE
TZID:Europe/Berlin
X-LIC-LOCATION:Europe/Berlin
BEGIN:DAYLIGHT
TZNAME:CEST
TZOFFSETFROM:+0100
TZOFFSETTO:+0200
DTSTART:19700329T020000
RRULE:FREQ=YEARLY;INTERVAL=1;BYMONTH=3;BYDAY=-1SU
END:DAYLIGHT
BEGIN:STANDARD
TZNAME:CET
TZOFFSETFROM:+0200
TZOFFSETTO:+0100
DTSTART:19701025T030000
RRULE:FREQ=YEARLY;INTERVAL=1;BYMONTH=10;BYDAY=-1SU
END:STANDARD
END:VTIMEZONE
BEGIN:VEVENT
UID:289898@fes.de
DTSTART;TZID=Europe/Berlin:20260831T180000
SEQUENCE:0
TRANSP:OPAQUE
DTEND;TZID=Europe/Berlin:20260831T200000
LOCATION:Gehrener Ring  61130 Nidderau
SUMMARY:Eröffnungsveranstaltung zur Ausstellung: Georg-August Zinn - Für 
 ein modernes und weltoffenes Hessen
CLASS:PUBLIC
DESCRIPTION:Georg-August Zinn war von 1950 bis 1969 Ministerpräsident in H
 essen. Er prägte das Bundesland wie kaum ein anderer. Der Wiederaufbau de
 r kriegszerrütteten Region und die Integration von Vertriebenen und Flüc
 htlingen waren Mammutaufgaben\, derer sich der Sozialdemokrat und einer de
 r „Väter“ des Grundgesetzes annahm – und die er bewältigte. Das Ja
 hr 2026 markiert gleich mehrere Jubiläen\, die Anlass geben\, an Zinn zu 
 erinnern. Seinen 125. Geburtstag\, seinen 50. Todestag und den 75. Jahrest
 ag des Beginns seiner Amtszeit als Ministerpräsident im Januar 1951. Grun
 d genug\, ihn als herausragende Persönlichkeit der hessischen Geschichte 
 zu würdigen.<br><br>Das Programm mit allen inhaltlichen und organisatoris
 chen Hinweisen folgt. <br><br>Die Ausstellung ist vom 31.08. - 30.09.2026 
 zu sehen. <br><br>Eine Kooperation der Friedrich-Ebert-Stiftung Landesbür
 o Hessen und der Stadtverwaltung Nidderau. Gefördert mit Mitteln der Hess
 ischen Landeszentrale für politische Bildung.
ORGANIZER;CN=Dr. Vinzenz Huzel:mailto:Landesbuero.Hessen@fes.de
DTSTAMP:20260424T185757Z
END:VEVENT
END:VCALENDAR