BEGIN:VCALENDAR
VERSION:2.0
PRODID:fes.de
BEGIN:VTIMEZONE
TZID:Europe/Berlin
X-LIC-LOCATION:Europe/Berlin
BEGIN:DAYLIGHT
TZNAME:CEST
TZOFFSETFROM:+0100
TZOFFSETTO:+0200
DTSTART:19700329T020000
RRULE:FREQ=YEARLY;INTERVAL=1;BYMONTH=3;BYDAY=-1SU
END:DAYLIGHT
BEGIN:STANDARD
TZNAME:CET
TZOFFSETFROM:+0200
TZOFFSETTO:+0100
DTSTART:19701025T030000
RRULE:FREQ=YEARLY;INTERVAL=1;BYMONTH=10;BYDAY=-1SU
END:STANDARD
END:VTIMEZONE
BEGIN:VEVENT
UID:289581@fes.de
DTSTART;TZID=Europe/Berlin:20260513T120000
SEQUENCE:0
TRANSP:OPAQUE
DTEND;TZID=Europe/Berlin:20260513T140000
LOCATION:Online
SUMMARY:Neues Gleichstellungsgesetz in Bayern: Potentiale erkennen und nutz
 en 
CLASS:PUBLIC
DESCRIPTION:<b>++ Anmeldung mit Motivationsbeschreibung ++</b><br><br>Mit d
 er Novellierung des Bayerischen Gleichstellungsgesetzes (BayGlG) veränder
 n sich Rahmenbedingungen\, Aufgaben und Handlungsspielräume der Gleichste
 llungsarbeit. Gleichzeitig sind Behörden und Kommunen gefordert\, bis End
 e des Jahres neue Gleich-stellungskonzepte zu erstellen. Wir reflektieren 
 die Wirksamkeit von Gleichstellungs-konzepten und skizzieren Handlungsspie
 lräume durch das neue Gesetz.<br><br>Die Veranstaltung ist eine Kooperati
 on mit der Akademie Frankenwarte e. V.<br><br> <b>Referent_innen</b> <br>-
  <b>Johanna Bamberg-Reinwand</b>\, Dipl.-Soziologin\, Diversity-Trainerin 
 und Coachin<br>- Moderation\, <b>Stephanie Böhm</b>\, Leiterin Akademie F
 rankenwarte <br><br><b>Anmeldung</b> <br>+++  <b>Anmeldung mit Motivations
 beschreibung bis 11.05.2026</b> +++<br>Die Seminare der KommunalAkademie B
 ayern richten sich an Menschen\, die sich kommunalpolitisch (z.B. in Parte
 ien\, Flüchtlingshilfe\, Jugendarbeit oder Gewerkschafen) engagieren (wol
 len). Für die Anmeldung benötigen wir eine kurze Motivationsbeschreibung
 : Wo engagieren Sie sich aktuell? Was erhoffen Sie sich vom Seminar? (2-3 
 Sätze). Dies dient auch zur Vorbereitung der Referent_innen.
ORGANIZER;CN=Eva Nagler:mailto:eva.nagler@fes.de
DTSTAMP:20260419T142153Z
END:VEVENT
END:VCALENDAR