BEGIN:VCALENDAR
VERSION:2.0
PRODID:fes.de
BEGIN:VTIMEZONE
TZID:Europe/Berlin
X-LIC-LOCATION:Europe/Berlin
BEGIN:DAYLIGHT
TZNAME:CEST
TZOFFSETFROM:+0100
TZOFFSETTO:+0200
DTSTART:19700329T020000
RRULE:FREQ=YEARLY;INTERVAL=1;BYMONTH=3;BYDAY=-1SU
END:DAYLIGHT
BEGIN:STANDARD
TZNAME:CET
TZOFFSETFROM:+0200
TZOFFSETTO:+0100
DTSTART:19701025T030000
RRULE:FREQ=YEARLY;INTERVAL=1;BYMONTH=10;BYDAY=-1SU
END:STANDARD
END:VTIMEZONE
BEGIN:VEVENT
UID:288541@fes.de
DTSTART;TZID=Europe/Berlin:20261120T170000
SEQUENCE:0
TRANSP:OPAQUE
DTEND;TZID=Europe/Berlin:20261121T000000
LOCATION:Gesundbrunnen 8 34369 Hofgeismar
SUMMARY:Mut zur Gegenrede – Training gegen Hass und Rassismus im Netz
CLASS:PUBLIC
DESCRIPTION:Rassismus in sozialen Netzwerken ist weit verbreitet. Die Strat
 egien der Blogger aus der rechtsextremen Szene sind leider wirkungsvoll un
 d inhaltlich perfide. Damit untergraben sie eine respektvolle Debattenkult
 ur. Aus Angst vor Hassrede beteiligt sich etwa die Hälfte der Internetnut
 zer*innen seltener an politischen Diskussionen im Netz. Gleichzeitig biete
 n soziale Netzwerke die Plattformen und das Potenzial\, Hater*innen Paroli
  zu bieten. Durch Posten und Counter Speech kann jede*r positive Akzente s
 etzen. Der Workshop bestärkt darin\, bei Hass im Netz nicht wegzusehen un
 d die Kommentarspalten zu ignorieren\, sondern proaktiv die Debattenkultur
  in den sozialen Medien demokartisch mitzugestalten.<br><br>Anmeldung übe
 r die Evangelische Akademie Hofgeismar: <a href=\"https://akademie-hofgeis
 mar.de/event/mut-zur-gegenrede-training-gegen-hass-und-rassismus-im-netz/ 
 \">Anmeldung </a><br><br>In Kooperation mit der Evangelischen Akademie Hof
 geismar. Gefördert mit Mitteln der Hessischen Landeszentrale für politis
 che Bildung.<br><br>-
ORGANIZER;CN=Dr. Vinzenz Huzel:mailto:Landesbuero.Hessen@fes.de
DTSTAMP:20260424T220917Z
END:VEVENT
END:VCALENDAR