BEGIN:VCALENDAR
VERSION:2.0
PRODID:fes.de
BEGIN:VTIMEZONE
TZID:Europe/Berlin
X-LIC-LOCATION:Europe/Berlin
BEGIN:DAYLIGHT
TZNAME:CEST
TZOFFSETFROM:+0100
TZOFFSETTO:+0200
DTSTART:19700329T020000
RRULE:FREQ=YEARLY;INTERVAL=1;BYMONTH=3;BYDAY=-1SU
END:DAYLIGHT
BEGIN:STANDARD
TZNAME:CET
TZOFFSETFROM:+0200
TZOFFSETTO:+0100
DTSTART:19701025T030000
RRULE:FREQ=YEARLY;INTERVAL=1;BYMONTH=10;BYDAY=-1SU
END:STANDARD
END:VTIMEZONE
BEGIN:VEVENT
UID:270685@fes.de
DTSTART;TZID=Europe/Berlin:20231115T180000
SEQUENCE:0
TRANSP:OPAQUE
DTEND;TZID=Europe/Berlin:20231115T200000
LOCATION:Bürgermeister-Haupt-Str. 14 23966 Wismar
SUMMARY:Weinhebers Koffer / Theaterstück mit anschließender Diskussion
CLASS:PUBLIC
DESCRIPTION:Elias Ehrenwerth lebt im heutigen Berlin und ist Journalist. Al
 s er für seine Freundin Lisa ein Geburtstagsgeschenk sucht\, entdeckt er 
 einen Lederkoffer bei einem Trödler mit den Initialen seiner Freundin. Er
  findet eine Visitenkarte seines Vorbesitzers Leonard Weinheber. Er war ei
 n jüdischer Schriftsteller\, hatte Berufsverbot und sah sich zur Emigrati
 on gezwungen und wollte nach dem damaligen Palästina auswandern.<br>Elias
  gelingt es\, die Geschehnisse fast im Detail nachzuzeichnen. Er begegnet 
 Menschen\, die durch ihre Schilderungen eine Zeit beschreiben\, die uns in
  ihrer Tragweite bis in die heutige Zeit in Schrecken und mitunter in Stau
 nen versetzen. Was prägt ihre Erfahrungen der Geschichte bis in die heuti
 ge Zeit? Verantwortung und Aufmerksamkeit sind die Schlüssel zu einem ver
 antwortungsbewussten Miteinander in allen Zeiten.<br><br>Darsteller_innen:
  Isai Liven\, Hanno Dinger\, Marcel Eid und Britta Shulamit Jakobi<br><br>
 Politisches Theater mit Publikumsgespräch<br>nach dem Roman von Michel Be
 rgmann<br>rimon productions<br><br>15.11.2023\, 18:00 Uhr<br>Theater der H
 ansestadt Wismar<br><br>Kammerbühne<br>Bürgermeister-Haupt-Str. 14<br>23
 966 Wismar<br><br>Die Veranstaltung ist öffentlich und kostenfrei. Anmeld
 ungen unter fes-mv-de oder schwerin@fes.de erbeten
ORGANIZER;CN=Axel Blaschke:mailto:schwerin@fes.de
DTSTAMP:20260424T185803Z
END:VEVENT
END:VCALENDAR