

BEGIN:VCALENDAR
VERSION:2.0
PRODID:-//FES/Themenkalender//EN
BEGIN:VEVENT
ORGANIZER;CN=Friedrich-Ebert-Stiftung e.V.:mailto:info@fes.de
UID:news-12265@www.fes.de
CREATED:20210202T125220Z
DTSTAMP:20210202T125220Z
DTSTART:20201103T143000
DTEND:20201103T180000
SUMMARY;CHARSET=UTF-8:Dienstleistungskongress NRW: Progressive Politik für einen zukunftsfähigen Dienstleistungssektor
LOCATION:ONLINE
DESCRIPTION;CHARSET=UTF-8:
CATEGORIES:Wirtschaft
END:VEVENT
END:VCALENDAR
