

BEGIN:VCALENDAR
VERSION:2.0
PRODID:-//FES/Themenkalender//EN
BEGIN:VEVENT
ORGANIZER;CN=Friedrich-Ebert-Stiftung e.V.:mailto:info@fes.de
UID:news-8888@www.fes.de
CREATED:20200429T034949Z
DTSTAMP:20200429T034949Z
DTSTART:20180129T000000
DTEND:20180129T000000
SUMMARY;CHARSET=UTF-8:Rückblick: Zukunft braucht Erinnerung: Maillé darf nicht vergessen werden!
LOCATION:Bonn
DESCRIPTION;CHARSET=UTF-8:Vor 75 Jahren, am 25. August 1944, ermordete eine SS-Einheit 124 Menschen in dem französischen Dorf Maillé.
Serge Martin, Überlebender des Massakers, sprach mit Schüler_innen und Schülern über die grausamen Erlebnisse, über seine Erinnerungsarbeit mit Jugendlichen und über Versöhnung.
Das Video über dieses Zeitzeugengespräch am 29.01.2018 am Friedrich-Ebert-Gymnasium in Bonn findet ihr hier:
CATEGORIES:Gender, Feminismus, Gleichberechtigung, Jugend, Senioren &amp;#124; Jugend
END:VEVENT
END:VCALENDAR
