

BEGIN:VCALENDAR
VERSION:2.0
PRODID:-//FES/Themenkalender//EN
BEGIN:VEVENT
ORGANIZER;CN=Friedrich-Ebert-Stiftung e.V.:mailto:info@fes.de
UID:news-9883@www.fes.de
CREATED:20200518T121436Z
DTSTAMP:20200518T121436Z
DTSTART:20191212T090000
DTEND:20191213T150000
SUMMARY;CHARSET=UTF-8:Rückblick: "Mein Veedel" in Alsdorf
LOCATION:Alsdorf
DESCRIPTION;CHARSET=UTF-8:Loslegen und nicht erst warten bis man alt genug ist für Ämter &amp; co.! Vor allem der ÖPNV und Plastikmüll beschäftigten das Going Green Team und die SV des Daltongymnasiums in Alsdorf in unserer Projektwerkstatt „Mein Veedel, mein Kiez, mein Quartier“ am 12. und 13.11.2019. Zwei Ideen aus der Projektwerkstatt werden nun umgesetzt: eine Müllsammelaktion und eine Plastik-freie-Party für Jugendliche in Alsdorf. Die Stadt Alsdorf war beim Abschluss vertreten durch ihren Ersten Beigeordneten Ralf Kahlen und die Stadtjugendpfleger Agnes Migenda und Günter Thimm. Danke für die Unterstützung!
Dieser Artikel beschreibt die zwei spannenden Tage ausführlich.
Mehr Infos zu unserem Format "Mein Veedel, mein Kiez, mein Quartier“ gibt es hier.
CATEGORIES:Gender, Feminismus, Gleichberechtigung, Jugend, Senioren &amp;#124; Jugend
END:VEVENT
END:VCALENDAR
