

BEGIN:VCALENDAR
VERSION:2.0
PRODID:-//FES/Themenkalender//EN
BEGIN:VEVENT
ORGANIZER;CN=Friedrich-Ebert-Stiftung e.V.:mailto:info@fes.de
UID:news-9719@www.fes.de
CREATED:20200429T034920Z
DTSTAMP:20200429T034920Z
DTSTART:20191105T090000
DTEND:20191106T160000
SUMMARY;CHARSET=UTF-8:Rückblick: Geschichtswerkstatt „Wende gut, alles gut?
LOCATION:Bonn
DESCRIPTION;CHARSET=UTF-8:
CATEGORIES:Gender, Feminismus, Gleichberechtigung, Jugend, Senioren &amp;#124; Jugend
END:VEVENT
END:VCALENDAR
