

BEGIN:VCALENDAR
VERSION:2.0
PRODID:-//FES/Themenkalender//EN
BEGIN:VEVENT
ORGANIZER;CN=Friedrich-Ebert-Stiftung e.V.:mailto:info@fes.de
UID:news-10333@www.fes.de
CREATED:20200429T034819Z
DTSTAMP:20200429T034819Z
DTSTART:20200306T080000
DTEND:20200307T160000
SUMMARY;CHARSET=UTF-8:Rückblick: Kommunalpolitik "for future"!
LOCATION:Gelsenkirchen
DESCRIPTION;CHARSET=UTF-8:Sie sind jung, sie kommen aus Gelsenkirchen, und aus Sorge um ihre Zukunft&nbsp;bei Fridays for Future aktiv. In unserer Projektwerkstatt "Mein Veedel, mein Kiez, mein Quartier" am 06. und 07.03.2020 im Wissenschaftspark Gelsenkirchen haben&nbsp;Jugendliche&nbsp;Ideen entwickelt, sich für bessere Klimapolitik auf kommunaler Ebene einzusetzen. Jetzt gibt es Pläne, wie weitere Verbündete gewonnen und Politiker_innen&nbsp;vor den Kommunalwahlen&nbsp;mit Forderungen nach einem besseren ÖPNV, mehr Radwegen und mehr grünen Hitzeinseln in der Stadt konfrontiert werden können. Wir wünschen viel Erfolg!
Link zum WAZ-Artikel


CATEGORIES:Gender, Feminismus, Gleichberechtigung, Jugend, Senioren &amp;#124; Jugend
END:VEVENT
END:VCALENDAR
