

BEGIN:VCALENDAR
VERSION:2.0
PRODID:-//FES/Themenkalender//EN
BEGIN:VEVENT
ORGANIZER;CN=Friedrich-Ebert-Stiftung e.V.:mailto:info@fes.de
UID:news-6578@www.fes.de
CREATED:20190424T134441Z
DTSTAMP:20190424T134441Z
DTSTART:20190124T190000
DTEND:
SUMMARY;CHARSET=UTF-8:Klartext: Was braucht vertrauenswürdiger Journalismus?
LOCATION:Institut für internalialen Journalismus der TU Dortmund
DESCRIPTION;CHARSET=UTF-8:Oft ist von einem angeblichen Vertrauensverlust in journalistische Berichterstattung die Rede. Einig sind sich Expert_innen zumindest darin, dass kritische Stimmen lauter und dass die Debatten um die inhaltliche Qualität und die Glaubwürdigkeit von Medien schärfer geworden sind.  Was zeichnet guten Journalismus aus? Wie kann Vertrauen in und Glaubwürdigkeit von Journalismus gestärkt werden? Und was können Journalist_innen von morgen aus dieser Debatte mitnehmen?  Wir freuen uns auf eine lebendige Diskussion mit Vertreter_innen aus Journalismus, Zivilgesellschaft und Wissenschaft, mit Studierenden und mit Ihnen!
&nbsp;
CATEGORIES:Medien und Digitale Welt
END:VEVENT
END:VCALENDAR
