

BEGIN:VCALENDAR
VERSION:2.0
PRODID:-//FES/Themenkalender//EN
BEGIN:VEVENT
ORGANIZER;CN=Friedrich-Ebert-Stiftung e.V.:mailto:info@fes.de
UID:news-3632@www.fes.de
CREATED:20190410T110959Z
DTSTAMP:20190410T110959Z
DTSTART:20170928T180000
DTEND:20170928T200000
SUMMARY;CHARSET=UTF-8:denkraum_medien: Politische Inszenierungen
LOCATION:Köln
DESCRIPTION;CHARSET=UTF-8:
CATEGORIES:Medien und Netzpolitik &amp;#124; Netz
END:VEVENT
END:VCALENDAR
