

BEGIN:VCALENDAR
VERSION:2.0
PRODID:-//FES/Themenkalender//EN
BEGIN:VEVENT
ORGANIZER;CN=Friedrich-Ebert-Stiftung e.V.:mailto:info@fes.de
UID:news-9316@www.fes.de
CREATED:20191018T114808Z
DTSTAMP:20191018T114808Z
DTSTART:20191017T180000
DTEND:
SUMMARY;CHARSET=UTF-8:17. Mitteldeutscher MedienDialog: Mitten im Umbruch? Vor welchen Veränderungen stehen Medien und Politik?
LOCATION:Tageslounge, Katharinenstraße 6, 04109 Leipzig
DESCRIPTION;CHARSET=UTF-8:Die deutsche Gesellschaft steht seit Jahren vor großen Herausforderungen. Etablierte Institutionen, das Parteiensystem und die Medien befinden sich mitten in einem tiefgreifenden Wandel. Der Jahrzehnte lang verlässliche Wertekonsens bricht auf, Wahlentscheidungen zwingen zu neuen Bündnissen.
Was bedeutet diese Entwicklung für die Zukunftsfragen unserer Gesellschaft? Was wird aus der politischen Mitte? Welche Rolle kommt den traditionellen Medien zu, welchen Einfluss entwickeln das Netz und die Medienplattformen?
Diese und Ihre Fragen möchten wir an diesem Abend auf dem Podium mit unserem Publikum diskutieren.
Es diskutieren
 	Carline Mohr, Leiterin des Newsroom im Berliner Willy-Brandt-Haus der SPD 	Hartmut Augustin, Chefredakteur der Mitteldeutschen Zeitung in Halle/Saale 	Prof. Dr. Everhard Holtmann, Politikwissenschaftler, Leiter des Zentrums für Sozialforschung Halle e. V. 	Martin Machowecz, DIE ZEIT, Leiter des Büros Leipzig 

Gesprächsleitung
Wolfgang Brinkschulte, Journalist, MDR-Fernsehen



CATEGORIES:Medien und Netzpolitik
END:VEVENT
END:VCALENDAR
