

BEGIN:VCALENDAR
VERSION:2.0
PRODID:-//FES/Themenkalender//EN
BEGIN:VEVENT
ORGANIZER;CN=Friedrich-Ebert-Stiftung e.V.:mailto:info@fes.de
UID:news-6540@www.fes.de
CREATED:20200429T035120Z
DTSTAMP:20200429T035120Z
DTSTART:20190128T100000
DTEND:20190128T150000
SUMMARY;CHARSET=UTF-8:Rückblick: Zeitzeugengespräch „Für Demokratie und Menschlichkeit“ mit Petra Rosenberg am 28.01.2019
LOCATION:
DESCRIPTION;CHARSET=UTF-8:Petra Rosenberg, Vorsitzende des Landesverbandes Deutscher Sinti und Roma Berlin-Brandenburg e.V.&nbsp; wird vom Schicksal ihres Vaters erzählen. Er hat als einziger seiner Großfamilie die Hölle von Auschwitz überlebt. In der Diskussion mit Frau Rosenberg und dem Historiker Professor Boll setzen wir uns mit der Vernichtungs- politik des Nationalsozialismus auseinander. Wir sprechen über die aktuelle Lebenssituation von Sinti und Roma in Deutschland und wie Rechtsextremismus und Rechtspopulismus heute Freiheit und Demokratie bedrohen.
CATEGORIES:Gender, Feminismus, Gleichberechtigung, Jugend, Senioren &amp;#124; Jugend
END:VEVENT
END:VCALENDAR
