

BEGIN:VCALENDAR
VERSION:2.0
PRODID:-//FES/Themenkalender//EN
BEGIN:VEVENT
ORGANIZER;CN=Friedrich-Ebert-Stiftung e.V.:mailto:info@fes.de
UID:news-6645@www.fes.de
CREATED:20200429T031503Z
DTSTAMP:20200429T031503Z
DTSTART:20181109T000000
DTEND:20181109T000000
SUMMARY;CHARSET=UTF-8:Rückblick: JugendDemokratieFEStival: Wir. Hier. Jetzt!
LOCATION:Bonn
DESCRIPTION;CHARSET=UTF-8:
Demokratie kommt und bleibt nicht von alleine: rechtspopulistische Parteien ziehen in Parlamente ein, sozialer Zusammenhalt und Vertrauen bröckeln vielerorts, und sich zu verständigen wird schwer in Zeiten von Fake News, Filterblasen und co. Eintreten für Demokratie ist nötiger denn je - und alle Talente sind gefragt!

Nicht zufällig zum 9.11.2018 luden wir deshalb interessierte Schülerinnen und Schüler, Bands und Filmgruppen ein, ihre Anliegen und Ideen für ein faires Miteinander auf die Bühne zu bringen.

Mit dabei waren:
 	Mario Röllig, Gedenkstätte Berlin-Hohenschönhausen, Zeitzeuge zu DDR und friedlicher Revolution 	Heiko Hahnewald, Breakdancer, Zeitzeuge zu DDR, Jugendkultur und Widerstand 	Ella Anschein, Slam Poetin, Bonn 	Florian Cieslik, Slam Poet, Köln 	Björn Schürmann, Regisseur und Drehbuchautor, project : film,&nbsp; Berlin 	Carlos Beatbox, „Boom N Tschakk“ und „Urbanatix“, Duisburg 	Christian Herrmann, Beatboxer, Hannover 	Johannes von Weizsäcker, „The Chap“ und „Baked Beans“, außerdem Popkritiker bei der Berliner Zeitung 	Ramin Bijan, „Die Türen“ und „Baked Beans“, betreibt auch das Berliner Label Staatsakt 	Maurice Summen, „Die Türen“ und „Baked Beans“, betreibt auch das Berliner Label Staatsakt 	FEE., Singer-Songschreiberin, Frankfurt 	Petra Bähner, Grafikdesignerin, Köln 	Veith Lemmen, Stellv. Landesvorsitzender der NRW SPD 	Michelle Busch und Thomas Hartmann von der Akademie für Soziale Demokratie der FES als Quizmaster 	Schülerinnen und Schüler der Gesamtschule Gummersbach, der Realschule Hardtberg aus Bonn, der IGS Bonn-Beuel und der Berufskollegs Köln-Südstadt und Kartäuser Wall 

An zwei Workshoptagen in der Friedrich-Ebert-Stiftung Bonn entstanden nach einem inhaltlichen Einstieg mit politischen Gästen, Zeitzeugen, Kurzplanspiel, Online-Quiz u.v.m. unter professioneller Anleitung von Musikern, Filmemacher_innen und Poetry-Slam-Profis in Filmen, Songs und Texten Antworten auf aktuelle Herausforderungen für Demokratie.

Das öffentliche Finale am 9.11.2018 ab 19.00 Uhr, moderiert von Slam Poet Florian Cieslik, begleitet von prominenten Festivalpat_innen wie Ella Anschein, FEE., Carlos Beatbox war gut besucht und machte deutlich, dass Festivals und politische Bildung zusammenpassen: Mit anderen zusammenkommen, öffentlich machen, was einem wichtig ist und am Ende nach Hause gehen mit einem Gefühl, dass ein gutes Miteinander doch gelingen kann – das kann Politik und Gesellschaft brauchen!


CATEGORIES:Demokratie &amp;#124; Jugend
END:VEVENT
END:VCALENDAR
