

BEGIN:VCALENDAR
VERSION:2.0
PRODID:-//FES/Themenkalender//EN
BEGIN:VEVENT
ORGANIZER;CN=Friedrich-Ebert-Stiftung e.V.:mailto:info@fes.de
UID:news-6694@www.fes.de
CREATED:20190424T111219Z
DTSTAMP:20190424T111219Z
DTSTART:20190122T190000
DTEND:
SUMMARY;CHARSET=UTF-8:Rechtsruck in Sachsen – Alles anders in Leipzig?
LOCATION:Tagungslounge, Katharinenstraße 6, 04109 Leipzig
DESCRIPTION;CHARSET=UTF-8:56 Prozent der Sächsischen Bevölkerung sehen die Bundesrepublik in einem gefährlichen Maße durch Ausländer überfremdet. (Sachsen Monitor 2018). Die Ausschreitungen in Chemnitz und anderen sächsischen Kommunen, die seit 2014 stattfindenden Pegida-Demonstrationen und die Erfolge rechtspopulistischer Parteien in Sachsen zeigen, wie tief Fremdenfeindlichkeit und gruppenbezogene Ressentiments im Freistaat verwurzelt sind. Leipzig als bevölkerungsreichste sächsische Stadt scheint dabei eine Sonderrolle einzunehmen. Gleich beim Auftakt des hiesigen Pegida-Ablegers setzten geschätzte 35.000 Gegendemonsttrant_innen ein deutliches Zeichen gegen rechtsaußen. Später hatte Legida die Kundgebungen mangels Resonanz ganz aufgegeben.
Aber unterscheiden sich Leipzig und seine Bürgerschaft tatsächlich von anderen Regionen im Freistaat, ist die Anzahl&nbsp; besorgter&nbsp; Leipziger Bürger_innen wirklich geringer und womit hätte das zu tun?
Podiumsgespräch mit
 	Antonie Rietzschel, Journalistin, Süddeutsche Zeitung 	Prof. Dr. Holger Lengfeld, Universität Leipzig, Institut für Soziologie 	Heiko Oßwald , Stadtrat in Leipzig 	Dr. Christian Demuth, Politikwissenschaftler, Dresden 
Gesprächsleitung
 	Holger Tschense, ehemaliger Leipziger Bürgermeister 


CATEGORIES:Gegen Rechtsextremismus!
END:VEVENT
END:VCALENDAR
