

BEGIN:VCALENDAR
VERSION:2.0
PRODID:-//FES/Themenkalender//EN
BEGIN:VEVENT
ORGANIZER;CN=Friedrich-Ebert-Stiftung e.V.:mailto:info@fes.de
UID:news-6285@www.fes.de
CREATED:20201216T124126Z
DTSTAMP:20201216T124126Z
DTSTART:20190405T190000
DTEND:20190406T190000
SUMMARY;CHARSET=UTF-8:PROGRESSIVER GEGENWIND - mit eigener Sprache und Haltung gegen rechte Parolen
LOCATION:Düsseldorf
DESCRIPTION;CHARSET=UTF-8:Seminarreihe: NRW demokratiestark
Völkisch-nationaler Populismus begegnet uns im Internet, auf Veranstaltungen, in Parlamenten, im Berufsalltag&nbsp; und auf der Straße. Mit diesem Seminar möchten wir vor allem die eigene Sprachfähigkeit im Umgang mit rechten Parolen stärken! Unser oberstes Ziel ist, dass Hassbotschaften nicht unwidersprochen stehen bleiben, sondern gilt: Haltung zeigen!
Im Seminar geht es aber noch um mehr: Gemeinsam müssen wir eine Debattenkultur etablieren, in der wir als Demokrat_innen unsere Haltung vertreten können. Dafür haben Robert Pietsch und Paul Bahlmann das Konzept der progressiven Gegenwehr entwickelt. Ein Konzept aus drei Schritten, das mehr ist als ein Abwehrkampf:

Eigene Haltung, Eigener Ton, Eigene Sprache.

Im Seminar werden dazu konkret zwei Schwerpunkte bearbeitet:
 	Welche Methoden, Strategien und Frames benutzen die Neuen Rechten in Deutschland und wie entfalten diese ihre gesellschaftliche Wirkungskraft? 	Wie können Menschen mit progressiven Botschaften erreicht und demokratiefeindlichen Kräften eine starke demokratische Erzählung entgegengesetzt werden? 

Im Seminar gibt es viele kurze Inputs und praktische Übungen. Neben ausreichend Raum für handlungsorientier&shy;tes rhetorisches Feedback, soll an politischen Inhalten und demokratischen Narrativen gearbeitet werden, um in der Auseinandersetzung mit Populisten eigene Botschaften setzen zu können.


Referenten:
Robert Pietsch, RPB Beratung Berlin 
Mathias Hamann, Journalist und Kommunikationstrainer
Robert Pietsch ist deutscher Vizemeister im Debattieren, Verwaltungswissenschaftler und PR-Manager.
Mathias Hamann hat als Journalist u.a. für Spiegel-Online, Zeit-Online und die Neue Züricher Zeitung gearbeitet. Für seine Arbeit mit Obdachlosen und Geflüchteten gewann er 2015 den Integrationspreis des Bezirks Berlin Mitte, für seine politische Bildungsarbeit mit Schulklassen wurde er vom Land Berlin mit dem Europapreis "Blauer Bär" ausgezeichnet. Mathias Hamann arbeitet freiberuflich als Kommunikationstrainer.




CATEGORIES:Gegen Rechtsextremismus! &amp;#124; Demokratie und Gesellschaft
END:VEVENT
END:VCALENDAR
