

BEGIN:VCALENDAR
VERSION:2.0
PRODID:-//FES/Themenkalender//EN
BEGIN:VEVENT
ORGANIZER;CN=Friedrich-Ebert-Stiftung e.V.:mailto:info@fes.de
UID:news-6290@www.fes.de
CREATED:20201216T131630Z
DTSTAMP:20201216T131630Z
DTSTART:20190315T180000
DTEND:20190317T160000
SUMMARY;CHARSET=UTF-8:POLITIK FÜR DIE „KLEINEN LEUTE“? - Die neue Rechte, der Populismus und die soziale Frage 
LOCATION:Duisburg (Sportpark)
DESCRIPTION;CHARSET=UTF-8:Seminarreihe: NRW demokratiestark
Wurde der Rechtspopulismus bislang vor allem als neoliberale Kraft begriffen, so zeigt ein Blick auf die Wahlanalysen in Deutschland und europäischen Nachbarstaaten, dass rechtspopulistische Parteien auch bei Arbeiter_innen, Arbeitslosen und Gewerkschaftsmitgliedern starken Zuspruch erhalten. Die neurechte Kampagne zu den Betriebsratswahlen 2017 zeigte zudem, dass auch Arbeitnehmer_innen verstärkt ins Visier der Neuen Rechten und Gewerkschaften zunehmend unter Druck geraten.
Im rechten politischen Lager wird offensichtlich über eine "Kapitalismuskritik von rechts" nachgedacht.
 	&nbsp;Was aber verbirgt sich hinter der Rede von der "neuen deutschen sozialen Frage des 21. Jahrhunderts"? 	Gibt es eine rechte Kapitalismus- und Globalisierungskritik? 	Und welche Rolle spielt der Kulturkampf der Populisten in diesem Zusammenhang? 

Unser Seminar untersucht die rechten Antworten auf die soziale Frage und dient zugleich der Entwicklung von demokratischen Gegenstrategien.

Hinweis:
Der Programmablauf wird rund 14 Tage vor dem Seminar aktualisiert, damit im Seminar auf aktuelleste und relevante Fallbeispielen gearbeitet werden kann. Zusätzlich zu den hier angekündigten Vorträgen und Workshops werden u.a. auch Filme und Dokumentationen aus dem Spektrum u.a. der Neuen Rechten gezeigt. 
Bis zum Seminar organisiert werden soll außerdem ein zusätzlicher Impulsvortrag durch eine_n Gewerkschaftsvertreter_in. Das Programm wird entsprechend aktualisiert.

Referenten:
Richard Gebhardt, Publizist, Politikwissenschaftler und Politischer Bildner
Informationen zur Person

Gewerkschaftsvertreter_in, N.N.


CATEGORIES:Gegen Rechtsextremismus! &amp;#124; Demokratie und Gesellschaft
END:VEVENT
END:VCALENDAR
