

BEGIN:VCALENDAR
VERSION:2.0
PRODID:-//FES/Themenkalender//EN
BEGIN:VEVENT
ORGANIZER;CN=Friedrich-Ebert-Stiftung e.V.:mailto:info@fes.de
UID:news-6122@www.fes.de
CREATED:20201216T125658Z
DTSTAMP:20201216T125658Z
DTSTART:20190215T180000
DTEND:20190217T160000
SUMMARY;CHARSET=UTF-8:HALTUNG ZEIGEN! - Das etwas andere Haltungstraining zum persönlichen Umgang mit Rechtspopulismus
LOCATION:Bad Honnef
DESCRIPTION;CHARSET=UTF-8:Seminarreihe: NRW demokratiestark
Rechte Parolen emotionalisieren: Sie spielen mit Ängsten und Unsicherheiten und wollen Wut auf allen Seiten provozieren. Die Welt wird dafür pauschal in ein „Wir“ und „die anderen“ aufgeteilt - wobei „wir“ natürlich die Guten sind und „die anderen“ die Bösen.
Auf einer persönlichen Ebene gibt es oft eine Hilflo&shy;sigkeit gegenüber den Pauschalierungen. Manche wissen nicht, was sie sagen sollen und schweigen daher. Auf einer politischen Ebene war die Kampagne ‚Wir sind Mehr‘ eine Antwort auf rechte Parolen, die gerne und breit aufgenommen wurde - und dabei doch derselben ausgrenzenden Logik folgte, von der man sich eigentlich distanzieren wollte.
In unserem Training wollen wir fragen: Wie entkommen wir diesem Spiel?

Nach dem Seminar hat man die eigene Haltung reflektiert, Anhaltspunkte für die Auseinandersetzung mit Rechtspopulismus definiert und kann gelassener die eigene (demokratische) Haltung vertreten.

Wichtiger Hinweis:
Voraussetzung für die Teilnahme an diesem Training sind Offenheit und die Bereitschaft, sich auf Selbster&shy;kenntnisse einzulassen.
Aufgrund der hohen Nachfrage bieten wir das Haltungstraining im September erneut in Bonn an. Hier geht es zur Anmeldung

Referentin:
Dr. Stefanie Hanke, Trainerin &amp; Bildungsreferentin



CATEGORIES:Gegen Rechtsextremismus! &amp;#124; Demokratie und Gesellschaft
END:VEVENT
END:VCALENDAR
