

BEGIN:VCALENDAR
VERSION:2.0
PRODID:-//FES/Themenkalender//EN
BEGIN:VEVENT
ORGANIZER;CN=Friedrich-Ebert-Stiftung e.V.:mailto:info@fes.de
UID:news-4849@www.fes.de
CREATED:20190424T134516Z
DTSTAMP:20190424T134516Z
DTSTART:20180327T210000
DTEND:20180327T230000
SUMMARY;CHARSET=UTF-8:Die neue Rechte und der Untergang des Abendlandes
LOCATION:Bielefeld
DESCRIPTION;CHARSET=UTF-8:Die Volkshochschule Bielefeld und die Friedrich-Ebert-Stiftung laden zu einer Lesung über die Neue Rechte ein. Volker Weiß trägt aus seinem aktuellen Buch „Die autoritäre Revolte“ vor. In diesem bietet der Autor eine tiefgehende und historisch fundierte Zeitdiagnose zu rechtspopulistischen und rechtsextremistischen Phänomenen. Scharfsinnig zeigt Volker Weiß die brisante Entwicklung des neuen rechten Denkens auf. Er porträtiert die wichtigsten Akteure der rechtspopulistischen Bewegungen sowie ihre Strategien und Methoden. Mit seinem kenntnisreichen Blick in die deutsche Geschichte entlarvt er die zentralen Mythen der Neuen Rechten und zeigt: Gegenwärtig werden nationalistische Strömungen der Vergangenheit, die der Nationalsozialismus verdrängt hatte, wieder aufgegriffen.
Volker Weiß, Dr. phil., ist freier Historiker und schreibt für DIE ZEIT, Jungle World, Frankfurter Rundschau, Taz, Spiegel u.a.
CATEGORIES:Gegen Rechtsextremismus!
END:VEVENT
END:VCALENDAR
