

BEGIN:VCALENDAR
VERSION:2.0
PRODID:-//FES/Themenkalender//EN
BEGIN:VEVENT
ORGANIZER;CN=Friedrich-Ebert-Stiftung e.V.:mailto:info@fes.de
UID:news-8862@www.fes.de
CREATED:20200624T155519Z
DTSTAMP:20200624T155519Z
DTSTART:20190827T100000
DTEND:
SUMMARY;CHARSET=UTF-8:Ausstellungseröffnung: Demokratie stärken - Rechtsextremismus bekämpfen 
LOCATION:Osnabrück
DESCRIPTION;CHARSET=UTF-8:Sie stellt die Grundlagen für rechtsextremes Verhalten und Einstellungen dar und zeigt, welche Formen rechtsextreme Weltbilder und Argumentationsweisen annehmen können.  Wir freuen uns, diese Ausstellung vom 27.08.2019 bis 10.09.2019 in der BBS Marienheim zeigen zu dürfen.  Bei der Ausstellungseröffnung am Dienstag, 27. August 2019 um 10.00 Uhr werden sprechen:  Olaf Cramm, Gewerkschaftssekretär DGB-Region Osnabrück-Emsland-Grafschaft Bentheim Ela Otto, Landesbüro Niedersachsen der Friedrich-Ebert Stiftung Schwester Eva-Maria Siemer, Schulleiterin Tiemo Wölken MdEP, Rechtspolitischer Sprecher der Sozialdemokratischen Fraktion im Europäischen Parlament
CATEGORIES:Demokratie &amp;#124; Gegen Rechtsextremismus! &amp;#124; Jugend
END:VEVENT
END:VCALENDAR
