

BEGIN:VCALENDAR
VERSION:2.0
PRODID:-//FES/Themenkalender//EN
BEGIN:VEVENT
ORGANIZER;CN=Friedrich-Ebert-Stiftung e.V.:mailto:info@fes.de
UID:news-5992@www.fes.de
CREATED:20200624T155629Z
DTSTAMP:20200624T155629Z
DTSTART:
DTEND:20181123T010000
SUMMARY;CHARSET=UTF-8:Ausstellung 'Demokratie stärken - Rechtsextremismus bekämpfen' 
LOCATION:Osterode
DESCRIPTION;CHARSET=UTF-8:Wir freuen uns, diese Ausstellung vom 12.11.2018 bis 23.11.2018 an der BBS II in Wolfsburg zeigen zu dürfen.
Bei der Ausstellungseröffnung am Montag, 12. November 2018 um 10.00 Uhr werden sprechen:
Silke Mursal-Dicty und Moritz Dicty, Bunt statt Braun Osterode am Harz e.V. Karl Heinz Hausmann MdL, Mitglied des Niedersächsischen Landtags Linda Matzke, Referentin im Landesbüro Niedersachsen der Friedrich-Ebert-Stiftung Dr. Carsten Wehmeyer, Schulleiter


CATEGORIES:Gegen Rechtsextremismus!
END:VEVENT
END:VCALENDAR
