

BEGIN:VCALENDAR
VERSION:2.0
PRODID:-//FES/Themenkalender//EN
BEGIN:VEVENT
ORGANIZER;CN=Friedrich-Ebert-Stiftung e.V.:mailto:info@fes.de
UID:news-5949@www.fes.de
CREATED:20200624T155639Z
DTSTAMP:20200624T155639Z
DTSTART:20181023T113000
DTEND:
SUMMARY;CHARSET=UTF-8:Ausstellungseröffnung 'Demokratie stärken - Rechtsextremismus bekämpfen'  in Wolfsburg
LOCATION:Wolfsburg
DESCRIPTION;CHARSET=UTF-8:Sie stellt die Grundlagen für rechtsextremes Verhalten und Einstellungen dar und zeigt, welche Formen rechtsextreme Weltbilder und Argumentationsweisen annehmen können.  Wir freuen uns, diese Ausstellung vom 23.10.2018 bis 2.11.2018 in der BBS II in Wolfsburg zeigen zu dürfen.  Bei der Ausstellungseröffnung am Dienstag, 23. Oktober 2018 um 9.30 Uhr werden sprechen:  Marianne Broska, Schulleiterin der BBS2 Wolfsburg Falko Mohrs, Mitglied des Deutschen Bundestages Marcel Schäfer, Sportdirektor des VFL Wolfsburg und ehemaliger Nationalspieler Urban Überschär, Leiter des Landesbüros Niedersachsen der Friedrich-Ebert-Stiftung
CATEGORIES:Demokratie &amp;#124; Gegen Rechtsextremismus!
END:VEVENT
END:VCALENDAR
