

BEGIN:VCALENDAR
VERSION:2.0
PRODID:-//FES/Themenkalender//EN
BEGIN:VEVENT
ORGANIZER;CN=Friedrich-Ebert-Stiftung e.V.:mailto:info@fes.de
UID:news-6291@www.fes.de
CREATED:20201216T124151Z
DTSTAMP:20201216T124151Z
DTSTART:20190517T190000
DTEND:20190519T170000
SUMMARY;CHARSET=UTF-8:ANECKEN, AUSGRENZEN, AUFRÄUMEN? - Strategien des jungen Rechtsaußenspektrums
LOCATION:Münster
DESCRIPTION;CHARSET=UTF-8:Seminarreihe: NRW demokratiestark
Rechtes Denken hat eine lange Tradition in Teilen der deutschen Bevölkerung - gleichzeitig wandeln sich seine Ausdrucksformen und Schwerpunkte. Neue Parteien und Bewegungen treten in die Öffentlichkeit, anderen wird weniger Aufmerksamkeit zuteil. Insbesondere das junge Rechtsaußenspektrum führt Stra&shy;tegiediskussionen und knüpft an zeitgenössische Diskurse an.
Am Beispiel verschiedener rechter Jugendorganisationen untersucht das Seminar Junge Identitäten im Rechtsaußenspektrum und folgt den Leitfragen:
 	Weshalb&nbsp; inszenieren sich junge Rechte als Tabu- und Normbrecher? 	Welcher Kommunikationsstil ist ihnen zu eigen? 	Inwieweit suchen sie Anschluss an die Lebenswelt(en) von jungen Menschen? 
Im Seminar werden Strategien des jungen Rechtsaußenspektrums beleuchtet und Reaktionsmöglichkeiten im Umgang mit rechten Jugendorganisationen aufgezeigt. Im Fokus stehen dabei auch die Widersprüche innerhalb des jungen rechten Spektrums.

Hinweis:
Das Seminar richtet sich an alle am Thema Interessierten und insbesondere an Lehrkräfte und päda&shy;gogische Fachkräfte der Jugend- und Bildungsarbeit.


Referenten:
Dr. Vincent Knopp, Sozialwissenschaftler, Bildungsarbeiter und freiberuflicher Referent. In seiner Dissertation (2014-2018) untersuchte er parteinahe Jugendorganisationen des Rechsaußenspektrums.
Matti-Léon Klieme, &nbsp;studiert im Master Soziologie und beschäftigt sich seit dem Bachelorstudium mit den ideologischen Versatzstücken der sog. "Neuen Rechten". 


CATEGORIES:Gegen Rechtsextremismus! &amp;#124; Demokratie und Gesellschaft
END:VEVENT
END:VCALENDAR
