

BEGIN:VCALENDAR
VERSION:2.0
PRODID:-//FES/Themenkalender//EN
BEGIN:VEVENT
ORGANIZER;CN=Friedrich-Ebert-Stiftung e.V.:mailto:info@fes.de
UID:news-2923@www.fes.de
CREATED:20190424T134623Z
DTSTAMP:20190424T134623Z
DTSTART:20170608T000000
DTEND:
SUMMARY;CHARSET=UTF-8:3. Zukunftsgespräch "Demografischer Wandel"
LOCATION:Herford
DESCRIPTION;CHARSET=UTF-8:In Fallbeispielen und Diskussionen möchten wir uns gemeinsam mit verschiedenen Aspekten der gesundheitlichen Versorgung auseinandersetzen – zum Beispiel mit guter Pflege oder medizinischer Versorgung für ätere Menschen mit Migrationshintergrund.
Die Organisatoren der Fachtagung sind: Friedrich-Ebert-Stiftung (Landesbüro NRW), Evangelischer Kirchenkreis Herford, Evangelischer Kirchenkreis Vlotho, Kreis Herford, Stefan Schwartze MdB.
Weitere Informationen folgen.
CATEGORIES:Demokratie &amp;#124; Gerechter Sozialstaat &amp;#124; Faires Miteinander
END:VEVENT
END:VCALENDAR
