

BEGIN:VCALENDAR
VERSION:2.0
PRODID:-//FES/Themenkalender//EN
BEGIN:VEVENT
ORGANIZER;CN=Friedrich-Ebert-Stiftung e.V.:mailto:info@fes.de
UID:news-2081@www.fes.de
CREATED:20200624T155901Z
DTSTAMP:20200624T155901Z
DTSTART:20161202T000000
DTEND:
SUMMARY;CHARSET=UTF-8:Wie können wir Europa zusammenhalten? 
LOCATION:Hannover
DESCRIPTION;CHARSET=UTF-8:Das Brexit-Votum der Briten hat die ohnehin akute Krise der EU noch einmal verschärft. Die Gemeinschaft ist in Gefahr, sich langsam aufzulösen. Es stellen sich daher viele Fragen: Vor welchen Problemen steht die Eurozone und damit auch die EU? Welche Reformen sind notwendig und wie können sie durchgeführt werden? Wer entscheidet in der Europapolitik und wie können gegensätzliche Interessen überbrückt werden?Statements und Diskussion mit Europa-Staatssekretärin Birgit Honé, Bernd Lange MdEP, Dr. Mehrdad Payandeh (DGB) und Dr. Alexander Schellinger (Mitherausgeber &quot;Die Zukunft der Eurozone&quot;), moderiert von Karin Abenhausen (Redakteurin NDR). 
CATEGORIES:Zukunft Europa &amp;#124; Europa und Globalisierung &amp;#124; Grundwertedebatte &amp;#124; Politik für Europa &amp;#124; Demokratisches Europa
END:VEVENT
END:VCALENDAR
