

BEGIN:VCALENDAR
VERSION:2.0
PRODID:-//FES/Themenkalender//EN
BEGIN:VEVENT
ORGANIZER;CN=Friedrich-Ebert-Stiftung e.V.:mailto:info@fes.de
UID:news-10635@www.fes.de
CREATED:20200508T153835Z
DTSTAMP:20200508T153835Z
DTSTART:20200504T180000
DTEND:20200504T193000
SUMMARY;CHARSET=UTF-8:FES LiveChat | Corona-Krise – welchen Ansatz für ein solidarisches Europa?
LOCATION:Online LiveChat
DESCRIPTION;CHARSET=UTF-8:Montag, 04.05.2020 / 18.00 – 19.30 Uhr / FES LiveChat Gemeinsame Veranstaltung des Institut &nbsp;français Deutschland und der Friedrich-Ebert-Stiftung
Corona-Krise – welchen Ansatz für ein solidarisches Europa?
Diskussion mit:&nbsp;&nbsp; Birgit Sippel MdEP  Éric-André Martin Generalsekretär des Studienkomitees für deutsch-französische Beziehungen (Cerfa)/ French Institut of International Relations (Ifri)
Kurzinterviews &nbsp;zur Situation vor Ort Italien: Eugenio Riversi, Historiker, Uni Bonn Frankreich: Dr. habil. Landry Charrier, Attaché für Hochschulkooperation der französischen Botschaft  Moderation: Gwendolin Jungblut, Agentur für Wahlen, Führung, Strategie

Die Corona-Krise trifft inzwischen alle europäischen Länder schwer; deren Auswirkungen werden aber unterschiedlich ausfallen. Das alleinige Handeln einzelner Staaten an eigenen Lösungen scheint der Gründungsidee der europäischen Solidarität zu widersprechen. Bei der Suche nach einer gemeinsamen Lösung gibt es unterschiedliche Ansätze: Einige Länder forderten gemeinschaftliche Anleihen in Form von sogenannten Corona-Bonds – während andere Länder eine gemeinschaftliche Haftung um jeden Preis verhindern wollten. Die EU-Finanzminister haben sich nun gemeinsam auf ein Hilfspaket in Höhe von 500 Milliarden Euro verständigt.  Wir werden im LiveChat &nbsp;folgenden Fragen nachgehen: Wird das Hilfspaket ausreichen, um die wirtschaftliche Krise gemeinschaftlich zu begegnen? Welche Vor- oder Nachteile bringt diese Lösung mit sich - wie unterscheidet sie sich vom umstrittenen Corona-Bonds-Ansatz? Welche Gefahren birgt der in der Krise offensichtlich werdende mangelnde Zusammenhalt der Staatengemeinschaft? Was ist unter dem angedachten „Wiederaufbaufonds“ zu verstehen?
Sie sind herzlich eingeladen an der Diskussion teilzunehmen.&nbsp;Bitte melden Sie sich über den Anmeldebutton an. Am Morgen des 04.05.&nbsp;erhalten Sie den Link, um sich ins Zoom-Meeting einzuloggen. &nbsp;
Datenschutz: Die Friedrich-Ebert-Stiftung nutzt für ihre Onlineangebote die leistungsfähige Software der US-Firma www.zoom.us. Die technische Infrastruktur von Zoom ist auf US-Servern hinterlegt. Die FES selbst legt im Zoom-System keine Daten von Teilnehmenden an. Das Anmeldemanagement erfolgt ausschließlich über die FES-eigene Datenbank. Im Sinne von Datensparsamkeit ist es möglich, den Zoom-Raum mit abgewandelter Namensgebung (z.B. nur Vorname oder Dienststelle) zu betreten. Für weitere Informationen siehe: https://zoom.us/de-de/privacy.html.
Die Audio- und Webcam-Nutzung steht während des Live-Chat nur den Referent_innen und Moderator_innen zur Verfügung. Die Teilnehmenden haben die Möglichkeit die Chat-Funktion für Fragen und Kommentare zu nutzen. Eine Verpflichtung dazu besteht selbstverständlich nicht.
CATEGORIES:Politik für Europa &amp;#124; Zukunft Europa
END:VEVENT
END:VCALENDAR
