

BEGIN:VCALENDAR
VERSION:2.0
PRODID:-//FES/Themenkalender//EN
BEGIN:VEVENT
ORGANIZER;CN=Friedrich-Ebert-Stiftung e.V.:mailto:info@fes.de
UID:news-2605@www.fes.de
CREATED:20170313T164242Z
DTSTAMP:20170313T164242Z
DTSTART:20160425T180000
DTEND:20160425T203000
SUMMARY;CHARSET=UTF-8:»People on the Move« – Ein Blick auf die Welt
LOCATION:FES Berlin
DESCRIPTION;CHARSET=UTF-8:
CATEGORIES:
END:VEVENT
END:VCALENDAR
