

BEGIN:VCALENDAR
VERSION:2.0
PRODID:-//FES/Themenkalender//EN
BEGIN:VEVENT
ORGANIZER;CN=Friedrich-Ebert-Stiftung e.V.:mailto:info@fes.de
UID:news-2619@www.fes.de
CREATED:20170313T164205Z
DTSTAMP:20170313T164205Z
DTSTART:20160425T203000
DTEND:20160428T210000
SUMMARY;CHARSET=UTF-8:Naturalization | Naturalisierung 
LOCATION:
DESCRIPTION;CHARSET=UTF-8:
CATEGORIES:
END:VEVENT
END:VCALENDAR
