

BEGIN:VCALENDAR
VERSION:2.0
PRODID:-//FES/Themenkalender//EN
BEGIN:VEVENT
ORGANIZER;CN=Friedrich-Ebert-Stiftung e.V.:mailto:info@fes.de
UID:news-2602@www.fes.de
CREATED:20170313T164306Z
DTSTAMP:20170313T164306Z
DTSTART:20160425T153000
DTEND:20160425T173000
SUMMARY;CHARSET=UTF-8:Flucht aus Syrien und die Verantwortung des Westens
LOCATION:FES Berlin
DESCRIPTION;CHARSET=UTF-8:
CATEGORIES:
END:VEVENT
END:VCALENDAR
