BEGIN:VCALENDAR
VERSION:2.0
PRODID:fes.de
BEGIN:VTIMEZONE
TZID:Europe/Berlin
X-LIC-LOCATION:Europe/Berlin
BEGIN:DAYLIGHT
TZNAME:CEST
TZOFFSETFROM:+0100
TZOFFSETTO:+0200
DTSTART:19700329T020000
RRULE:FREQ=YEARLY;INTERVAL=1;BYMONTH=3;BYDAY=-1SU
END:DAYLIGHT
BEGIN:STANDARD
TZNAME:CET
TZOFFSETFROM:+0200
TZOFFSETTO:+0100
DTSTART:19701025T030000
RRULE:FREQ=YEARLY;INTERVAL=1;BYMONTH=10;BYDAY=-1SU
END:STANDARD
END:VTIMEZONE
BEGIN:VEVENT
UID:290044@fes.de
DTSTART;TZID=Europe/Berlin:20260505T123000
SEQUENCE:0
TRANSP:OPAQUE
DTEND;TZID=Europe/Berlin:20260505T133000
LOCATION:online
SUMMARY:FES Weltweit – Leben zwischen Kriegen: Libanon
CLASS:PUBLIC
DESCRIPTION:Der Libanon ist inzwischen eine zentrale Front des sich ausweit
 enden regionalen Konflikts zwischen Israel\, den USA\, dem Iran und deren 
 jeweiligen Verbündeten. Das Land befindet sich in einer strategischen Zwi
 ckmühle. Auf der einen Seite steht Israel\, unterstützt von den USA\, de
 ssen Regierung zunehmend aggressiv auftritt und offen von territorialen An
 sprüchen spricht. Auf der anderen Seite steht die vom Iran geführte „A
 chse des Widerstands“\, bestehend aus der Hisbollah im Libanon\, der Ham
 as\, der Huthi-Bewegung und weiteren bewaffneten Gruppen.<br><br>Der Konfl
 ikt hat schwerwiegende Folgen für die libanesische Zivilbevölkerung und 
 den Staat: Seit den letzten Auseinandersetzungen zwischen der pro-iranisch
 en Hisbollah-Miliz und der israelischen Armee Anfang März 2026 gibt es ü
 ber 2.100 Tote und nahezu 7.000 Verletzte\, mehr als 1\,3 Millionen Mensch
 en wurden vertrieben und zivile Infrastruktur massiv zerstört. <br><br>Se
 it dem 16. April gibt es einen Grund zum vorsichtigen Optimismus: Zum erst
 en Mal seit 1993 soll es direkte Verhandlungen zwischen der libanesischen 
 und der israelischen Regierung geben\, um die Kämpfe zu beenden und einen
  dauerhaften Frieden zwischen den Nachbarländern zu erzielen. <br><br>Wel
 che Aussichten haben diese Verhandlungen? Wie kann die libanesische Regier
 ung agieren? Wie wird die pro-iranische Miliz reagieren? Was sind die sozi
 alen Konsequenzen aus dem Krieg und wie sieht die humanitäre Lage im Liba
 non aktuell aus? <br><br>Diese und weitere Fragen diskutieren wir mit <b>M
 erin Abbass\, </b>Leiter des FES Büros in Libanon.<br><br>Moderation: <b>
 Christine Strotmann\, </b>Referentin FES Norddeutschland<br><br>Organisato
 rische Hinweise:<br><br>- Eine Anmeldung ist erforderlich über den \"Anme
 lden\" Button auf dieser Seite.<br>- Die Veranstaltung findet auf der Plat
 tform Zoom statt.<br>- Angemeldete Teilnehmer*innen erhalten von uns per M
 ail eine Anmeldebestätigung\, sowie die Zugangsdaten zu der online-Diskus
 sion sowie technische und Datenschutzhinweise am Werktag (04.05.26) vor de
 r Veranstaltung.<br><br>Die Teilnahme ist kostenfrei und durch die Landesz
 entrale für politische Bildung der Freien und Hansestadt Hamburg geförde
 rt. <br><br><br>
ORGANIZER;CN=Christine Strotmann:mailto:christine.strotmann@fes.de
DTSTAMP:20260423T165650Z
END:VEVENT
END:VCALENDAR