BEGIN:VCALENDAR
VERSION:2.0
PRODID:fes.de
BEGIN:VTIMEZONE
TZID:Europe/Berlin
X-LIC-LOCATION:Europe/Berlin
BEGIN:DAYLIGHT
TZNAME:CEST
TZOFFSETFROM:+0100
TZOFFSETTO:+0200
DTSTART:19700329T020000
RRULE:FREQ=YEARLY;INTERVAL=1;BYMONTH=3;BYDAY=-1SU
END:DAYLIGHT
BEGIN:STANDARD
TZNAME:CET
TZOFFSETFROM:+0200
TZOFFSETTO:+0100
DTSTART:19701025T030000
RRULE:FREQ=YEARLY;INTERVAL=1;BYMONTH=10;BYDAY=-1SU
END:STANDARD
END:VTIMEZONE
BEGIN:VEVENT
UID:290024@fes.de
DTSTART;TZID=Europe/Berlin:20260610T113000
SEQUENCE:0
TRANSP:OPAQUE
DTEND;TZID=Europe/Berlin:20260610T133000
LOCATION:digital
SUMMARY:Kommunale Sozialpolitik
CLASS:PUBLIC
ORGANIZER;CN=Nicola Roth:mailto:nicola.roth@fes.de
DTSTAMP:20260425T103046Z
END:VEVENT
END:VCALENDAR