BEGIN:VCALENDAR
VERSION:2.0
PRODID:fes.de
BEGIN:VTIMEZONE
TZID:Europe/Berlin
X-LIC-LOCATION:Europe/Berlin
BEGIN:DAYLIGHT
TZNAME:CEST
TZOFFSETFROM:+0100
TZOFFSETTO:+0200
DTSTART:19700329T020000
RRULE:FREQ=YEARLY;INTERVAL=1;BYMONTH=3;BYDAY=-1SU
END:DAYLIGHT
BEGIN:STANDARD
TZNAME:CET
TZOFFSETFROM:+0200
TZOFFSETTO:+0100
DTSTART:19701025T030000
RRULE:FREQ=YEARLY;INTERVAL=1;BYMONTH=10;BYDAY=-1SU
END:STANDARD
END:VTIMEZONE
BEGIN:VEVENT
UID:289818@fes.de
DTSTART;TZID=Europe/Berlin:20260520T183000
SEQUENCE:0
TRANSP:OPAQUE
DTEND;TZID=Europe/Berlin:20260520T203000
LOCATION:Heiligengeiststr. 38 21335 Lüneburg
SUMMARY:Jürgen Habermas - Gedenkveranstaltung
CLASS:PUBLIC
DESCRIPTION:Detlef Horster zeigt die innere Entwicklung und Architektur des
  Habermasschen Werkes auf\, der die bundesrepublikanische Demokratie und W
 issenschaft durch seine Eingriffe seit 1953 entscheidend mitgestaltete und
  geprägt hat. Er hat der Politik Impulse gegeben\, die die Politiker dank
 bar aufgenommen und auch umgesetzt haben. Jürgen Habermas wird auch weite
 rhin aktuell bleiben. Detlef Horster übermittelt bei seinem Vortrag gleic
 hzeitig die Lebensdaten von Jürgen Habermas.<br>Detlef Horster war bis 20
 07 Professor für Sozialphilosophie an der Leibniz Universität Hannover. 
 Er war Gastprofessor in Utrecht\, Wien\, Port Elizabeth und Zürich und ha
 t über Jürgen Habermas publiziert. Detlef Horster war mit Jürgen Haberm
 as befreundet.<br><br>Kant-Museum im Ostpreußischen Landesmuseum<br>Heili
 gengeiststraße 38 | 21335 Lüneburg<br>Eintritt: 5\,– Euro<br><b>Anmeld
 ung erforderlich unter<br>Tel. 0 41 31–759 950 oder info@ol-lg.de </b>
ORGANIZER;CN=Stephan Meuser:mailto:niedersachsen@fes.de
DTSTAMP:20260424T140641Z
END:VEVENT
END:VCALENDAR