BEGIN:VCALENDAR
VERSION:2.0
PRODID:fes.de
BEGIN:VTIMEZONE
TZID:Europe/Berlin
X-LIC-LOCATION:Europe/Berlin
BEGIN:DAYLIGHT
TZNAME:CEST
TZOFFSETFROM:+0100
TZOFFSETTO:+0200
DTSTART:19700329T020000
RRULE:FREQ=YEARLY;INTERVAL=1;BYMONTH=3;BYDAY=-1SU
END:DAYLIGHT
BEGIN:STANDARD
TZNAME:CET
TZOFFSETFROM:+0200
TZOFFSETTO:+0100
DTSTART:19701025T030000
RRULE:FREQ=YEARLY;INTERVAL=1;BYMONTH=10;BYDAY=-1SU
END:STANDARD
END:VTIMEZONE
BEGIN:VEVENT
UID:289617@fes.de
DTSTART;TZID=Europe/Berlin:20260521T183000
SEQUENCE:0
TRANSP:OPAQUE
DTEND;TZID=Europe/Berlin:20260521T200000
LOCATION:Frauentorstraße 29 86152 Augsburg
SUMMARY:Ein Leben im Ausnahmezustand: Wie geht es den Menschen in der Ukrai
 ne?
CLASS:PUBLIC
DESCRIPTION:Auch wenn anderen Themen den russischen Angriffskrieg gerade me
 dial verdrängen: Das Leiden und Sterben der Menschen in der Ukraine geht 
 im vierten Kriegsjahr weiter. <br><br>Auf unserem Panel wollen wir uns bew
 usst mit der ukrainischen Zivilbevölkerung beschäftigen: <br>Wie lebt un
 d überlebt man inmitten des Bomben- und Drohnenterrors?<br>Was bedeutet e
 s tatsächlich\, in einem \"russisch besetzten Gebiet\" zu leben? <br>Und 
 was können wir in der Europäischen Union und in Deutschland für die Ukr
 ainerinnen und Ukrainer tun?<br><br>Mit:<br><b>Kateryna Matey</b>\, Vorsit
 zende des Ukrainischen Vereins Augsburg<br><b>Ira Ganzhorn</b>\, Referenti
 n für Humanitäre Hilfe bei Libereco<br><b>Dr. Simone Strohmayr\, MdL</b>
  Sprecherin der SPD-Landtagsfraktion für Entwicklungspolitik\, für Fraue
 npolitik\, für Bildung und Kultus und Erinnerungspolitik<br><b>Heinz Scha
 af</b>\, Vorsitzender des Kolping Bezirksverbands Augsburg\, Vorsitzender 
 der Kolpingsfamilie Gersthofen.<br><br>Moderation: <b>Simone Reperger</b>\
 , Leiterin des FES-Landesbüros Bayern<br><br>Die Veranstaltung ist eine K
 ooperation mit der Europäischen Akademie Bayern\, Europe Direct der Stadt
  Augsburg und der Kolping Akademie Augsburg anlässlich der <b>Augsburger 
 Europawochen 2026</b>.<br><p><br><p>
ORGANIZER;CN=Simone Reperger:mailto:bayern@fes.de
DTSTAMP:20260419T233724Z
END:VEVENT
END:VCALENDAR