BEGIN:VCALENDAR
VERSION:2.0
PRODID:fes.de
BEGIN:VTIMEZONE
TZID:Europe/Berlin
X-LIC-LOCATION:Europe/Berlin
BEGIN:DAYLIGHT
TZNAME:CEST
TZOFFSETFROM:+0100
TZOFFSETTO:+0200
DTSTART:19700329T020000
RRULE:FREQ=YEARLY;INTERVAL=1;BYMONTH=3;BYDAY=-1SU
END:DAYLIGHT
BEGIN:STANDARD
TZNAME:CET
TZOFFSETFROM:+0200
TZOFFSETTO:+0100
DTSTART:19701025T030000
RRULE:FREQ=YEARLY;INTERVAL=1;BYMONTH=10;BYDAY=-1SU
END:STANDARD
END:VTIMEZONE
BEGIN:VEVENT
UID:289493@fes.de
DTSTART;TZID=Europe/Berlin:20260521T180000
SEQUENCE:0
TRANSP:OPAQUE
DTEND;TZID=Europe/Berlin:20260521T200000
LOCATION:Goseriede 10 30159 Hannover
SUMMARY:Die Unverzichtbaren\, Film mit anschließender Podiumsdiskussion
CLASS:PUBLIC
DESCRIPTION:Wer reinigt über Nacht die Büros? Wer bestückt tagtäglich d
 ie Supermarktregale  mit frischer Ware? Wer sind die Menschen\, die Pakete
  zustellen\, Einkäufe  abkassieren\, alte und kranke Menschen pflegen und
  die Fließbänder in den  Fabriken bedienen? Bis zu einem Fünftel aller 
 Beschäftigten in Deutschland sind  Basisarbeiter:innen: Menschen\, die mi
 t ihren Tätigkeiten das Fundament legen für  den gesellschaftlichen Allt
 ag und unsere Wirtschaft.<br>Rund 20 Prozent der Erwerbstätigen in Deutsc
 hland sind in un- und angelernten Berufen  tätig\, beispielsweise in der 
 Pflege\, im Reinigungsgewerbe\, in der Gastronomie\, im  Baugewerbe oder i
 m Einzelhandel. Diese Berufe sind für das Funktionieren unserer  Gesellsc
 haft unverzichtbar\, erfahren jedoch häufig zu wenig gesellschaftliche un
 d  politische Anerkennung. Im Mittelpunkt der Veranstaltung stehen der Dok
 umentarfilm „Die Unverzichtbaren” und  die gleichnamige Studie. Mensch
 en in Basisarbeit. Beide Werke beleuchten die Lebensund Arbeitsrealitäten
  von Menschen in Basisberufen. Die Studie basiert auf Fokusgruppen\, Einze
 linterviews und einer Umfrage mit über 2.000  Beschäftigten. Sie gibt ei
 nen fundierten Einblick in die Arbeitsbedingungen\, Beschäftigungsverhäl
 tnisse und politischen Einstellungen von Basisarbeiter:innen.  Ergänzt wi
 rd dies durch den Film\, der persönliche Perspektiven sichtbar macht und 
 die Bedeutung dieser Arbeit für unseren Alltag eindrücklich vermittelt. 
 Im Anschluss an die Filmvorführung möchten wir gemeinsam darüber diskut
 ieren\, welche Auswirkungen unsichere Arbeitsbedingungen auf das Vertrauen
  in die Demokratie haben und welche politischen sowie gesellschaftlichen M
 aßnahmen notwendig sind\, um faire Arbeitsbedingen\, mehr Sichtbarkeit un
 d echte Wertschätzung zu schaffen.<br>Mit:<br>• Andrea Wemheuer\, Lande
 sleitung ver.di Landesbezirk Niedersachsen-Bremen<br>• Hedi Tounsi\, Lag
 erarbeiter und Betriebsrat\, Amazon<br>• Güven Ciftci\, Reinigungskraft
  und Filmprotagonist<br>Moderation<br>• Johanna Siebert\, Senior Projekt
 managerin\, Das Progressive Zentrum\, Berlin
ORGANIZER;CN=Stephan Meuser:mailto:niedersachsen@fes.de
DTSTAMP:20260422T141132Z
END:VEVENT
END:VCALENDAR