BEGIN:VCALENDAR
VERSION:2.0
PRODID:fes.de
BEGIN:VTIMEZONE
TZID:Europe/Berlin
X-LIC-LOCATION:Europe/Berlin
BEGIN:DAYLIGHT
TZNAME:CEST
TZOFFSETFROM:+0100
TZOFFSETTO:+0200
DTSTART:19700329T020000
RRULE:FREQ=YEARLY;INTERVAL=1;BYMONTH=3;BYDAY=-1SU
END:DAYLIGHT
BEGIN:STANDARD
TZNAME:CET
TZOFFSETFROM:+0200
TZOFFSETTO:+0100
DTSTART:19701025T030000
RRULE:FREQ=YEARLY;INTERVAL=1;BYMONTH=10;BYDAY=-1SU
END:STANDARD
END:VTIMEZONE
BEGIN:VEVENT
UID:288544@fes.de
DTSTART;TZID=Europe/Berlin:20260421T183000
SEQUENCE:0
TRANSP:OPAQUE
DTEND;TZID=Europe/Berlin:20260421T200000
LOCATION:Hiroshimastr. 17 10785 Berlin
SUMMARY:Presseakkreditierung Verleihung Hans-Matthöfer-Preis 2026
CLASS:PUBLIC
DESCRIPTION:<b>Akkreditieren Sie sich hier für die Verleihung des Hans-Mat
 thöfer-Preises 2026.</b><br><br>Hier können Sie unseren <u><a href=\"htt
 ps://www.fes.de/aufnahme-presseverteiler-fes\">Presse-Newsletter abonniere
 n</a></u>.
ORGANIZER;CN=Kontakt Pressestelle:mailto:presse@fes.de
DTSTAMP:20260422T161014Z
END:VEVENT
END:VCALENDAR