BEGIN:VCALENDAR
VERSION:2.0
PRODID:fes.de
BEGIN:VTIMEZONE
TZID:Europe/Berlin
X-LIC-LOCATION:Europe/Berlin
BEGIN:DAYLIGHT
TZNAME:CEST
TZOFFSETFROM:+0100
TZOFFSETTO:+0200
DTSTART:19700329T020000
RRULE:FREQ=YEARLY;INTERVAL=1;BYMONTH=3;BYDAY=-1SU
END:DAYLIGHT
BEGIN:STANDARD
TZNAME:CET
TZOFFSETFROM:+0200
TZOFFSETTO:+0100
DTSTART:19701025T030000
RRULE:FREQ=YEARLY;INTERVAL=1;BYMONTH=10;BYDAY=-1SU
END:STANDARD
END:VTIMEZONE
BEGIN:VEVENT
UID:288469@fes.de
DTSTART;TZID=Europe/Berlin:20260611T170000
SEQUENCE:0
TRANSP:OPAQUE
DTEND;TZID=Europe/Berlin:20260614T150000
LOCATION:Dortmund
SUMMARY:Zukunftsfähige Finanzpolitik - Geld für den gerechten Wandel
CLASS:PUBLIC
DESCRIPTION:11. Juni (18.00-20.00 Uhr) Online Modul<br>13./14. Juni in Prä
 senz in Dortmund<br><br>Schuldenbremse und Investitionsstau angesichts von
  Klimakrise und wirtschaftlicher Stagnation? Dabei sind Investitionen zent
 ral für junge Menschen und kommende Generationen. Doch wie lassen sich Zu
 kunftsinvestitionen langfristig absichern\, sodass auch nach dem 500 Mrd.-
 Sondervermögen vorausschauend investiert werden kann. Welche Rolle spielt
  der Staat bei der Finanzierung zentraler Zukunftsaufgaben – und welche 
 Möglichkeiten hat er\, die nötigen Mittel bereitzustellen?<br> <br>Im Se
 minar „Zukunftsfähige Finanzpolitik – Geld für den gerechten Wandel
 “ möchten wir uns mit diesen und weiteren Fragen befassen und gemeinsam
  erarbeiten\, wie die Haushaltspolitik stärker an der Zukunft ausgerichte
 t werden kann\, damit der Staat auch in Krisenzeiten handlungsfähig bleib
 t. Ferner möchten wir diskutieren wie eine Finanzpolitik aussehen kann\, 
 die Generationengerechtigkeit\, wirtschaftliche Stabilität und sozialen F
 ortschritt verbindet. Dabei geht es um konkrete politische Handlungsspielr
 äume\, neue finanzpolitische Ansätze und die Frage\, wie ein gerechter W
 andel finanziert werden kann – in Deutschland wie in Europa.<br><br>***D
 ieses Seminar organisiert das Landesbüro NRW der Friedrich-Ebert-Stiftung
  in Kooperation mit FiscalFuture e.V.. FiscalFuture ist eine junge Organis
 ation mit Sitz in Berlin\, die bundesweit Bildungsformate zu finanzpolitis
 chen Themen anbietet.***<br><br>Seminarleitung: FiscalFuture e.V.
ORGANIZER;CN=Jeanette Rußbült:mailto:jeanette.russbuelt@fes.de
DTSTAMP:20260419T142157Z
END:VEVENT
END:VCALENDAR