BEGIN:VCALENDAR
VERSION:2.0
PRODID:fes.de
BEGIN:VTIMEZONE
TZID:Europe/Berlin
X-LIC-LOCATION:Europe/Berlin
BEGIN:DAYLIGHT
TZNAME:CEST
TZOFFSETFROM:+0100
TZOFFSETTO:+0200
DTSTART:19700329T020000
RRULE:FREQ=YEARLY;INTERVAL=1;BYMONTH=3;BYDAY=-1SU
END:DAYLIGHT
BEGIN:STANDARD
TZNAME:CET
TZOFFSETFROM:+0200
TZOFFSETTO:+0100
DTSTART:19701025T030000
RRULE:FREQ=YEARLY;INTERVAL=1;BYMONTH=10;BYDAY=-1SU
END:STANDARD
END:VTIMEZONE
BEGIN:VEVENT
UID:256836@fes.de
DTSTART;TZID=Europe/Berlin:20220520T174500
SEQUENCE:0
TRANSP:OPAQUE
DTEND;TZID=Europe/Berlin:20220521T151500
LOCATION:Online
SUMMARY:NEU: Online-Seminar: Social Smart City - Einblicke in eine sozial-d
 igitale Kommunalpolitik
CLASS:PUBLIC
DESCRIPTION:Wie sieht die Stadt von morgen aus? Welche Rolle spielt die Dig
 italisierung? Welche Facetten beinhaltet das Politikfeld Digitalisierung? 
 Und wie kann die Soziale Demokratie eine digitale Kommune prägen? Diese F
 ragen stehen im Mittelpunkt dieses Online-Seminars.<br><br>In drei Teilen 
 lernen digitale Neulinge\, aber auch Erfahrene das Politikfeld der kommuna
 len Digitalisierung von Grunde auf kennen. Sie kommen zudem in den Austaus
 ch mit kommunalen Entscheider_innen und erarbeiten selbst Ideen und Leitli
 nien einer sozial-digitalen Kommune.<br><br>Das sind die Inhalte:<br>- Sma
 rt City\, E-Government\, Open Data? Einführung in die kommunale Digitalpo
 litik<br>- Digitalisierungsstrategien - Fahrplan und Kompass einer digital
 en Kommune<br>- Wie können wir sozial-digitale Kommunen gestalten?<br><br
 >Kamingäste: Denes Kücük\, Chief Digital Officer der Stadt Bochum und S
 abine Möwes\, Leiterin der Stabsstelle Digitalisierung der Stadt Köln<br
 ><br>Für die Teilnahme am Online-Seminar benötigen Sie einen Browserzuga
 ng\, Kopfhörer\, ein Mikrofon sowie eine Kamera. Sie können Ihren PC\, L
 aptop\, Tablet oder das Smartphone benutzen. Zur Vorbereitung bieten wir e
 inen Technik-Check an. <br><br>Dieses Online-Seminar wird von der Kommunal
 Akademie der FES mit Sitz in Bonn durchgeführt.
ORGANIZER;CN=Christian Suchta / Anne Haller:mailto:Christian.Suchta@fes.de
DTSTAMP:20260422T134626Z
END:VEVENT
END:VCALENDAR