

BEGIN:VCALENDAR
VERSION:2.0
PRODID:-//FES/Themenkalender//EN
BEGIN:VEVENT
ORGANIZER;CN=Friedrich-Ebert-Stiftung e.V.:mailto:info@fes.de
UID:news-6696@www.fes.de
CREATED:20190712T115822Z
DTSTAMP:20190712T115822Z
DTSTART:20190204T190000
DTEND:
SUMMARY;CHARSET=UTF-8:Das soziale Europa - Ein notwendiges Zukunftsprojekt der Europäischen Union
LOCATION:
DESCRIPTION;CHARSET=UTF-8:Historisch betrachtet ist die Europäische Union auf wirtschaftliche Zusammenarbeit ausgerichtet und hat für Frieden gesorgt. Darüber hinaus gibt es allerdings weitere Herausforderungen. Seit der Entstehung der EU kämpfen verschiedene Kräfte für die Weiter- oder Rückentwicklung der europäischen Integration. Die Entwicklung eines&nbsp; sozialen Europas&nbsp; kann dagegen eine Antwort auf den wachsenden Nationalismus in der Gemeinschaft sein. Zu diesem Zweck ist jedoch eine Kompetenzverschiebung auf europäische Ebene notwendig. Welche Möglichkeiten bietet eine europäische Sozialpolitik und wie sollte sie gestaltet werden? Welche Schritte unternimmt das Europaparlament auf diesem Weg und wo hakt es? Über diese und Ihre Fragen möchten wir an diesem Abend diskutieren.
Einführung und Gespräch
 	Constanze Krehl, Mitglied des Europäischen Parlaments, Leipzig 	Prof. Dr. Renate Reiter, Universität Leipzig, Institut für Politikwissenschaft 
Gesprächsleitung
 	Jérôme Buske, Politikwissenschaftler, Leipzig 


CATEGORIES:Wirtschafts- und Sozialpolitik &amp;#124; Gerechter Sozialstaat
END:VEVENT
END:VCALENDAR
