

BEGIN:VCALENDAR
VERSION:2.0
PRODID:-//FES/Themenkalender//EN
BEGIN:VEVENT
ORGANIZER;CN=Friedrich-Ebert-Stiftung e.V.:mailto:info@fes.de
UID:news-5950@www.fes.de
CREATED:20200624T155639Z
DTSTAMP:20200624T155639Z
DTSTART:20181024T020000
DTEND:
SUMMARY;CHARSET=UTF-8:10 Jahre Globale Finanz- und Wirtschaftskrise. Wo stehen wir heute? 
LOCATION:Hannover
DESCRIPTION;CHARSET=UTF-8:Das kapitalistische System zeigte sich damals von seiner unschönen Seite: Banken mussten mithilfe staatlicher Gelder gerettet werden, die Wirtschaft brach rapide ein und Millionen von Menschen verloren ihren Arbeitsplatz. Die Welt erlebte die schlimmste Rezession seit fast einem Jahrhundert.  Bis heute hinterlässt die Finanzkrise tiefe Spuren in der Weltwirtschaft und wegen der halbherzigen Reformen des Finanzsektors befürchten viele Expert_innen, dass es schon bald zu einer nächsten krisenhaften Entwicklung kommen könnte. Wo stehen wir also 10 Jahre danach? Welche Auswirkungen sind weltweit aber auch gerade in Deutschland zu erkennen und zu beobachten? Zu welchen finanzpolitischen Veränderungen hat die Finanz- und Wirtschaftskrise geführt? Tut die Politik genug, um derartige Entwicklungen zukünftig zu verhindern?  Nach einem Impuls zum Thema von Alexander Hagelüken (Wirtschaftsredakteur Süddeutsche Zeitung und Autor des Buches "Das gespaltene Land" diskutiert er mit Cansel Kiziltipe MdB, stellv. finanzpol. Sprecherin der SPD-Bundestagsfraktion, Dr. Mehrdad Payandeh, DGB-Vorsitzender Niedersachsen - Bremen - Sachsen-Anhalt und Torsten Windels, ehem. Chefvolkswirt der Nord/LB. Die Podiumsdiskussion wird von Daniela Milutin, Sprecherin ver.di-Bundesvorstand, moderiert.
CATEGORIES:Wirtschafts- und Sozialpolitik &amp;#124; Wirtschaft &amp;#124; Finanzen
END:VEVENT
END:VCALENDAR
